BEGIN:VCALENDAR
VERSION:2.0
PRODID:-//wp-events-plugin.com//7.2.3.1//EN
BEGIN:VEVENT
UID:2@d-landauer.de
DTSTART:20240208T180000Z
DTEND:20240208T230000Z
DTSTAMP:20240202T122954Z
URL:https://www.d-landauer.de/veranstaltungen/unsinnige-stadtratssitzung/
SUMMARY:Unsinnige Stadtratssitzung
DESCRIPTION:Die Bevölkerung wird herzlich eingeladen\, der unsinnigen Stad
 tratssitzung am Donnerstag\, 08.02.2024 ab 18 Uhr in der Stadthalle beizuw
 ohnen.\n\nEs werden neben den drei Bürgermeistern fast alle Stadträte te
 ilnehmen. Die Sitzung wird durch die beiden Garden (SSC Landau und der Pri
 nzengarde aus Dingolfing) und durch eine Live-Band um Andreas Stauber aufg
 ewertet.\n\nNeben den Stadtratsfrauen werden auch eine Gruppe aus Stadtrat
 smännern mitmachen. Die drei Bürgermeister werden natürlich auch ihr Fa
 schingskönnen darbieten.\n\nEs gibt zur Sitzung ein abwechslungsreiches P
 rogramm bei dem jeder Besucher unterhalten wird.\n\nNach der Sitzung gibt 
 es noch einen Barbetrieb und DJ Plechinger wird die Gäste mit toller Musi
 k unterhalten.\n\nFür Ihr leibliches Wohl wird ebenfalls gesorgt.\n\nWir 
 freuen uns auf Ihr Kommen.
ATTACH;FMTTYPE=image/jpeg:https://www.d-landauer.de/wp-content/uploads/202
 4/02/unsinnige_stadtratssitzung.jpeg
CATEGORIES:Fasching
LOCATION:Stadthalle Landau\, Stadtgraben 3\, Landau a.d. Isar\, 94405\, Deu
 tschland
X-APPLE-STRUCTURED-LOCATION;VALUE=URI;X-ADDRESS=Stadtgraben 3\, Landau a.d.
  Isar\, 94405\, Deutschland;X-APPLE-RADIUS=100;X-TITLE=Stadthalle Landau:g
 eo:0,0
END:VEVENT
END:VCALENDAR