BEGIN:VCALENDAR
VERSION:2.0
PRODID:-//wp-events-plugin.com//7.2.3.1//EN
BEGIN:VEVENT
UID:1@d-landauer.de
DTSTART:20231021T193000Z
DTEND:20231021T223000Z
DTSTAMP:20230826T210313Z
URL:https://www.d-landauer.de/veranstaltungen/herbstkonzert-der-stadtkapel
 le/
SUMMARY:Herbstkonzert der Stadtkapelle
DESCRIPTION:Die Stadtkapelle lädt zum Herbstkonzert alle Freunde der Blasm
 usik sowie ihre Fans und Gönner ein.\n\nKartenvorverkauf: Blumengeschäft
  Kerscher\, Höckinger Str. 20\, Landau\, Telefon: 09951 5730\n\nEintritts
 preis: 15\,00 € regulär und 9\,00 € ermäßigt
ATTACH;FMTTYPE=image/jpeg:https://www.d-landauer.de/wp-content/uploads/202
 3/08/stadtkapelle_landau.jpg
CATEGORIES:Konzert
LOCATION:Stadthalle Landau\, Stadtgraben 3\, Landau a.d. Isar\, 94405\, Deu
 tschland
X-APPLE-STRUCTURED-LOCATION;VALUE=URI;X-ADDRESS=Stadtgraben 3\, Landau a.d.
  Isar\, 94405\, Deutschland;X-APPLE-RADIUS=100;X-TITLE=Stadthalle Landau:g
 eo:0,0
END:VEVENT
END:VCALENDAR